BEGIN:VCALENDAR
VERSION:2.0
PRODID:-//eventon.com NONSGML v1.0//EN
BEGIN:VEVENT
UID:69e889964fc80
DTSTAMP:20260422T084054
DTSTART:20251203
DTEND:20251204
TZID:Pacific/Midway
LOCATION:
SUMMARY:Día Internacional de las personas con Discapacidad
DESCRIPTION: Día Internacional de las personas con Discapacidad\nhttps://enfermeriablog.com/events/dia-internacional-de-las-personas-con-discapacidad/
URL:https://enfermeriablog.com/events/dia-internacional-de-las-personas-con-discapacidad/
END:VEVENT
END:VCALENDAR