BEGIN:VCALENDAR
VERSION:2.0
PRODID:-//eventon.com NONSGML v1.0//EN
BEGIN:VEVENT
UID:69e732b092f4f
DTSTAMP:20260421T081752
DTSTART:20250214
DTEND:20250215
TZID:Pacific/Midway
LOCATION:
SUMMARY:Día Europeo de la Salud Sexual
DESCRIPTION: Día Europeo de la Salud Sexual\nhttps://enfermeriablog.com/events/dia-europeo-de-la-salud-sexual/
URL:https://enfermeriablog.com/events/dia-europeo-de-la-salud-sexual/
END:VEVENT
END:VCALENDAR